BEGIN:VCALENDAR
VERSION:2.0
PRODID:-//Victoria Square Shopping Centre - ECPv6.15.12.2//NONSGML v1.0//EN
CALSCALE:GREGORIAN
METHOD:PUBLISH
X-ORIGINAL-URL:https://vicsquare.ca
X-WR-CALDESC:Events for Victoria Square Shopping Centre
REFRESH-INTERVAL;VALUE=DURATION:PT1H
X-Robots-Tag:noindex
X-PUBLISHED-TTL:PT1H
BEGIN:VTIMEZONE
TZID:America/Regina
BEGIN:STANDARD
TZOFFSETFROM:-0600
TZOFFSETTO:-0600
TZNAME:CST
DTSTART:20240101T000000
END:STANDARD
END:VTIMEZONE
BEGIN:VEVENT
DTSTART;TZID=America/Regina:20260312T090000
DTEND;TZID=America/Regina:20260312T170000
DTSTAMP:20260421T043056
CREATED:20260106T162959Z
LAST-MODIFIED:20260128T153610Z
UID:8393-1773306000-1773334800@vicsquare.ca
SUMMARY:VicSquare Seniors Expo 2026
DESCRIPTION:🌼 The Seniors Expo at Victoria Square is back! 🌼\n\n\n \n\n\nJoin us on March 12 for a fun-filled day featuring info & vendor booths\, coffee & snacks\, bingo\, and a mini fashion show. Enjoy live entertainment from Brian Sklar & The Old Time All-Stars\, plus Jesse Lamont as Elvis Presley! \n\n\n \n\n\nEvent schedule will be released closer to event date! 😄\n\n\n \n\n\nThank you to this years sponsors!\n\n\nVictoria Park Personal Care Community\n\n\nHarbour Landing Village\n\n\nAtria Queen Victoria Estates\n\n\nWintergreene Estates Retirement Residence
URL:https://vicsquare.ca/event/vicsquare-seniors-expo-2026/
LOCATION:Victoria Square Shopping Centre
CATEGORIES:Entertainment,Mall Event,Market/TradeShow
ATTACH;FMTTYPE=image/jpeg:https://vicsquare.ca/wp-content/uploads/2026/01/SeniorsExpo-Social1350x1080.jpg
END:VEVENT
BEGIN:VEVENT
DTSTART;TZID=America/Regina:20260222T064500
DTEND;TZID=America/Regina:20260222T093000
DTSTAMP:20260421T043056
CREATED:20260220T201721Z
LAST-MODIFIED:20260220T201721Z
UID:8516-1771742700-1771752600@vicsquare.ca
SUMMARY:Lebowski's Kitchen & Lounge - Gold Medal Brunch Buffet Watch Party
DESCRIPTION:BRUNCH & BREAKAWAYS! \n\n\nSwing by Lebowski’s Kitchen & Lounge  for the Gold Medal Game Watch Party! Enjoy their famous Sunday Brunch Buffet while cheering for Team Canada! Doors are open nice and early at 6:45am\, game starts at 7am!\n\n\nRemember to use the Lebowski’s entrance and not the mall entrance!
URL:https://vicsquare.ca/event/lebowskis-kitchen-lounge-gold-medal-brunch-buffet-watch-party/
LOCATION:Lebowski’s Kitchen & Lounge
CATEGORIES:Entertainment
ATTACH;FMTTYPE=image/jpeg:https://vicsquare.ca/wp-content/uploads/2026/02/639729376_122277163262026301_3002406141648069308_n.jpg
END:VEVENT
BEGIN:VEVENT
DTSTART;TZID=America/Regina:20260221T120000
DTEND;TZID=America/Regina:20260221T130000
DTSTAMP:20260421T043056
CREATED:20260123T155026Z
LAST-MODIFIED:20260220T201751Z
UID:8440-1771675200-1771678800@vicsquare.ca
SUMMARY:Salsa Colada - February Salsa Fever
DESCRIPTION:Get your salsa on! \nSalsa Colada will be performing in our Centre Court on Feb 21 at 12:00pm.
URL:https://vicsquare.ca/event/salsa-colada-february-salsa-fever/
LOCATION:Victoria Square Shopping Centre
CATEGORIES:Entertainment
ATTACH;FMTTYPE=image/jpeg:https://vicsquare.ca/wp-content/uploads/2026/01/salsafever.jpg
END:VEVENT
BEGIN:VEVENT
DTSTART;TZID=America/Regina:20260215T120000
DTEND;TZID=America/Regina:20260215T150000
DTSTAMP:20260421T043056
CREATED:20260123T154152Z
LAST-MODIFIED:20260211T152021Z
UID:8429-1771156800-1771167600@vicsquare.ca
SUMMARY:Lunar New Year Celebration
DESCRIPTION: Celebrate Lunar New Year at Victoria Square! February 15\, 12:00pm-2:00pmEnjoy colourful cultural performances\, a lion dance \, and fun New Year crafts for all ages! Bring the family and celebrate luck\, joy\, and new beginnings with us! 
URL:https://vicsquare.ca/event/lunar-new-year-celebration-2/
LOCATION:Victoria Square Shopping Centre
CATEGORIES:Arts,Entertainment,Mall Event
ATTACH;FMTTYPE=image/jpeg:https://vicsquare.ca/wp-content/uploads/2026/01/LUNARNEWYEAR2026usethis.jpg
END:VEVENT
BEGIN:VEVENT
DTSTART;TZID=America/Regina:20260131T120000
DTEND;TZID=America/Regina:20260131T150000
DTSTAMP:20260421T043056
CREATED:20260113T205732Z
LAST-MODIFIED:20260113T205733Z
UID:8407-1769860800-1769871600@vicsquare.ca
SUMMARY:Winter Warm-Up Walk
DESCRIPTION:❄️ Join us for the Winter Warm-Up Walk! ❄️\n\n\nBundle up and bring the family for a fun afternoon indoors at VicSquare!\n\n\n \n\n\n🧤 Scavenger Hunt & Trivia Walk with mini-prizes!\n\n\n📅 January 31\n\n\n⏰ 12:00 PM – 3:00 PM\n\n\n \n\n\n🎶 Live performance by Nathan Davis\n\n\n🕐 1:00 PM | Centre Court\n\n\n \n\n\nWalk the mall\, solve clues\, test your trivia skills\, and warm up with live music — the perfect way to shake off the winter chill! ☕🎸
URL:https://vicsquare.ca/event/winter-warm-up-walk/
LOCATION:Victoria Square Shopping Centre
CATEGORIES:Entertainment,Mall Event
ATTACH;FMTTYPE=image/jpeg:https://vicsquare.ca/wp-content/uploads/2026/01/WINTERWARMUP-02.jpg
END:VEVENT
BEGIN:VEVENT
DTSTART;TZID=America/Regina:20260126T133000
DTEND;TZID=America/Regina:20260126T150000
DTSTAMP:20260421T043056
CREATED:20260106T162351Z
LAST-MODIFIED:20260106T162351Z
UID:8388-1769434200-1769439600@vicsquare.ca
SUMMARY:Regina Heritage Fiddlers
DESCRIPTION:The Regina Heritage Fiddlers return to VicSquare! \n  \nCatch them in the VicSquare Community Centre on January 26\, 1:30pm.
URL:https://vicsquare.ca/event/regina-heritage-fiddlers-17/
CATEGORIES:Entertainment
ATTACH;FMTTYPE=image/jpeg:https://vicsquare.ca/wp-content/uploads/2025/01/fiddle_14422894_1000.jpg
END:VEVENT
BEGIN:VEVENT
DTSTART;TZID=America/Regina:20251215T133000
DTEND;TZID=America/Regina:20251215T150000
DTSTAMP:20260421T043056
CREATED:20251209T161626Z
LAST-MODIFIED:20251209T161626Z
UID:8310-1765805400-1765810800@vicsquare.ca
SUMMARY:Regina Heritage Fiddlers
DESCRIPTION:
URL:https://vicsquare.ca/event/regina-heritage-fiddlers-16/
LOCATION:VicSquare Community Centre
CATEGORIES:Entertainment
ATTACH;FMTTYPE=image/jpeg:https://vicsquare.ca/wp-content/uploads/2025/12/fiddlersdec.jpg
END:VEVENT
BEGIN:VEVENT
DTSTART;TZID=America/Regina:20251212T140000
DTEND;TZID=America/Regina:20251212T150000
DTSTAMP:20260421T043056
CREATED:20251209T162421Z
LAST-MODIFIED:20251209T162421Z
UID:8321-1765548000-1765551600@vicsquare.ca
SUMMARY:St. Marguerite Bourgeoys Children's Choir
DESCRIPTION:
URL:https://vicsquare.ca/event/st-marguerite-bourgeoys-childrens-choir/
CATEGORIES:Entertainment
ATTACH;FMTTYPE=image/jpeg:https://vicsquare.ca/wp-content/uploads/2025/12/choir.jpg
END:VEVENT
BEGIN:VEVENT
DTSTART;TZID=America/Regina:20251207T140000
DTEND;TZID=America/Regina:20251207T170000
DTSTAMP:20260421T043056
CREATED:20251121T172455Z
LAST-MODIFIED:20251121T172455Z
UID:8233-1765116000-1765126800@vicsquare.ca
SUMMARY:Photos with THE MEAN ONE
DESCRIPTION:It’s been a long time\, but THE MEAN ONE is returning to VicSquare! \nCatch him with Santa in this one day event! Photos subject to charge. Pricing below.
URL:https://vicsquare.ca/event/photos-with-the-mean-one/
LOCATION:Victoria Square Shopping Centre
CATEGORIES:Entertainment
ATTACH;FMTTYPE=image/jpeg:https://vicsquare.ca/wp-content/uploads/2025/11/EXTRAXMAS-10.jpg
END:VEVENT
BEGIN:VEVENT
DTSTART;TZID=America/Regina:20251206T130000
DTEND;TZID=America/Regina:20251206T150000
DTSTAMP:20260421T043056
CREATED:20251125T194844Z
LAST-MODIFIED:20251125T194844Z
UID:8258-1765026000-1765033200@vicsquare.ca
SUMMARY:Holiday Heat Dance Showcase
DESCRIPTION:It’s a little cold out there\, but we’re bringing the warmth with our Holiday Heat Dance Showcase! \n\n\nDec. 6\, 1:00pmVicSquare Community Centre\nVicSquare Community Centre\n\n\nFeaturing amazing performances from Salsa Colada & the Caribbean Fusion Dance Academy! These performances are sure to make you forget about the winter blues!
URL:https://vicsquare.ca/event/holiday-heat-dance-showcase/
CATEGORIES:Arts,Community Event,Entertainment
ATTACH;FMTTYPE=image/jpeg:https://vicsquare.ca/wp-content/uploads/2025/11/HOLIDAYHBEAT-01.jpg
END:VEVENT
BEGIN:VEVENT
DTSTART;TZID=America/Regina:20251121T080000
DTEND;TZID=America/Regina:20251121T170000
DTSTAMP:20260421T043056
CREATED:20251121T175313Z
LAST-MODIFIED:20251121T175313Z
UID:8243-1763712000-1763744400@vicsquare.ca
SUMMARY:Santa Pet Photos
DESCRIPTION:It’s time for It’s Santa Pet Photos!! The one day a year we allow you to bring your pets in the mall! \n\n\nDec. 17\, 12pm-7pm\n\n\nAll animals must be leashed or in a carrier.
URL:https://vicsquare.ca/event/santa-pet-photos/
CATEGORIES:Entertainment
ATTACH;FMTTYPE=image/jpeg:https://vicsquare.ca/wp-content/uploads/2025/11/SANTAPET2025.jpg
END:VEVENT
BEGIN:VEVENT
DTSTART;TZID=America/Regina:20251106T133000
DTEND;TZID=America/Regina:20251106T150000
DTSTAMP:20260421T043056
CREATED:20251104T144045Z
LAST-MODIFIED:20251104T144045Z
UID:8133-1762435800-1762441200@vicsquare.ca
SUMMARY:Elvis Tribute Show
DESCRIPTION:Victoria Park presents an Elvis Tribute Show! \nThursday\, Nov 6 featuring impersonator Jesse Lamont. \n1:30pm-3:00pm
URL:https://vicsquare.ca/event/elvis-tribute-show/
LOCATION:VicSquare Community Centre
CATEGORIES:Entertainment
ATTACH;FMTTYPE=image/png:https://vicsquare.ca/wp-content/uploads/2025/11/vicpark-01.png
END:VEVENT
END:VCALENDAR