BEGIN:VCALENDAR
VERSION:2.0
PRODID:-//Victoria Square Shopping Centre - ECPv6.15.12.2//NONSGML v1.0//EN
CALSCALE:GREGORIAN
METHOD:PUBLISH
X-WR-CALNAME:Victoria Square Shopping Centre
X-ORIGINAL-URL:https://vicsquare.ca
X-WR-CALDESC:Events for Victoria Square Shopping Centre
REFRESH-INTERVAL;VALUE=DURATION:PT1H
X-Robots-Tag:noindex
X-PUBLISHED-TTL:PT1H
BEGIN:VTIMEZONE
TZID:America/Regina
BEGIN:STANDARD
TZOFFSETFROM:-0600
TZOFFSETTO:-0600
TZNAME:CST
DTSTART:20240101T000000
END:STANDARD
END:VTIMEZONE
BEGIN:VEVENT
DTSTART;VALUE=DATE:20251108
DTEND;VALUE=DATE:20251109
DTSTAMP:20260421T035734
CREATED:20250923T192038Z
LAST-MODIFIED:20251016T145437Z
UID:8051-1762560000-1762646399@vicsquare.ca
SUMMARY:Sask. Health Authority - Fall Vaccine Clinic
DESCRIPTION:The Sask. Health Authority is returning with their Fall Vaccine Clinic. Clinic dates are as follows: \nThursday\, October 16 & 23\n1:00 pm – 7:30 pm \nSaturday\, November 1 & 8\n9:00 am – 3:30 pm \nThursday\, November 13\n1:00 pm – 7:30 pm \n  \nFor hours\, details\, and more info\, visit the link here: \nhttps://www.saskhealthauthority.ca/your-health/conditions-illnesses-services-wellness/all-z/covid-19-saskatchewan/vaccine-clinics/walk-vaccine-clinics
URL:https://vicsquare.ca/event/sask-health-authority-fall-vaccine-clinic-5/
LOCATION:VicSquare Community Centre
CATEGORIES:Community Event,Services
ATTACH;FMTTYPE=image/jpeg:https://vicsquare.ca/wp-content/uploads/2025/09/385740090_603713575291472_7908757412575393433_n.jpg
END:VEVENT
BEGIN:VEVENT
DTSTART;VALUE=DATE:20251101
DTEND;VALUE=DATE:20251102
DTSTAMP:20260421T035734
CREATED:20250923T191940Z
LAST-MODIFIED:20251016T145448Z
UID:8049-1761955200-1762041599@vicsquare.ca
SUMMARY:Sask. Health Authority - Fall Vaccine Clinic
DESCRIPTION:The Sask. Health Authority is returning with their Fall Vaccine Clinic. Clinic dates are as follows: \nThursday\, October 16 & 23\n1:00 pm – 7:30 pm \nSaturday\, November 1 & 8\n9:00 am – 3:30 pm \nThursday\, November 13\n1:00 pm – 7:30 pm \n  \nFor hours\, details\, and more info\, visit the link here: \nhttps://www.saskhealthauthority.ca/your-health/conditions-illnesses-services-wellness/all-z/covid-19-saskatchewan/vaccine-clinics/walk-vaccine-clinics
URL:https://vicsquare.ca/event/sask-health-authority-fall-vaccine-clinic-4/
CATEGORIES:Community Event,Services
ATTACH;FMTTYPE=image/jpeg:https://vicsquare.ca/wp-content/uploads/2025/09/385740090_603713575291472_7908757412575393433_n.jpg
END:VEVENT
BEGIN:VEVENT
DTSTART;VALUE=DATE:20251023
DTEND;VALUE=DATE:20251024
DTSTAMP:20260421T035734
CREATED:20250923T191905Z
LAST-MODIFIED:20251016T145456Z
UID:8047-1761177600-1761263999@vicsquare.ca
SUMMARY:Sask. Health Authority - Fall Vaccine Clinic
DESCRIPTION:The Sask. Health Authority is returning with their Fall Vaccine Clinic. Clinic dates are as follows: \nThursday\, October 16 & 23\n1:00 pm – 7:30 pm \nSaturday\, November 1 & 8\n9:00 am – 3:30 pm \nThursday\, November 13\n1:00 pm – 7:30 pm \n  \nFor hours\, details\, and more info\, visit the link here: \nhttps://www.saskhealthauthority.ca/your-health/conditions-illnesses-services-wellness/all-z/covid-19-saskatchewan/vaccine-clinics/walk-vaccine-clinics
URL:https://vicsquare.ca/event/sask-health-authority-fall-vaccine-clinic-3/
LOCATION:Victoria Square Shopping Centre
CATEGORIES:Community Event,Services
ATTACH;FMTTYPE=image/jpeg:https://vicsquare.ca/wp-content/uploads/2025/09/385740090_603713575291472_7908757412575393433_n.jpg
END:VEVENT
BEGIN:VEVENT
DTSTART;VALUE=DATE:20251016
DTEND;VALUE=DATE:20251017
DTSTAMP:20260421T035734
CREATED:20250923T191824Z
LAST-MODIFIED:20251016T145506Z
UID:8044-1760572800-1760659199@vicsquare.ca
SUMMARY:Sask. Health Authority - Fall Vaccine Clinic
DESCRIPTION:The Sask. Health Authority is returning with their Fall Vaccine Clinic. Clinic dates are as follows: \nThursday\, October 16 & 23\n1:00 pm – 7:30 pm \nSaturday\, November 1 & 8\n9:00 am – 3:30 pm \nThursday\, November 13\n1:00 pm – 7:30 pm \n  \nFor hours\, details\, and more info\, visit the link here: \nhttps://www.saskhealthauthority.ca/your-health/conditions-illnesses-services-wellness/all-z/covid-19-saskatchewan/vaccine-clinics/walk-vaccine-clinics
URL:https://vicsquare.ca/event/sask-health-authority-fall-vaccine-clinic-2/
LOCATION:VicSquare Community Centre
CATEGORIES:Community Event,Services
ATTACH;FMTTYPE=image/jpeg:https://vicsquare.ca/wp-content/uploads/2025/09/385740090_603713575291472_7908757412575393433_n.jpg
END:VEVENT
END:VCALENDAR